BEGIN:VCALENDAR
VERSION:2.0
PRODID:-//Warrensburg Chamber of Commerce - ECPv6.15.20//NONSGML v1.0//EN
CALSCALE:GREGORIAN
METHOD:PUBLISH
X-ORIGINAL-URL:https://www.warrensburg.org
X-WR-CALDESC:Events for Warrensburg Chamber of Commerce
REFRESH-INTERVAL;VALUE=DURATION:PT1H
X-Robots-Tag:noindex
X-PUBLISHED-TTL:PT1H
BEGIN:VTIMEZONE
TZID:America/Chicago
BEGIN:DAYLIGHT
TZOFFSETFROM:-0600
TZOFFSETTO:-0500
TZNAME:CDT
DTSTART:20250309T080000
END:DAYLIGHT
BEGIN:STANDARD
TZOFFSETFROM:-0500
TZOFFSETTO:-0600
TZNAME:CST
DTSTART:20251102T070000
END:STANDARD
BEGIN:DAYLIGHT
TZOFFSETFROM:-0600
TZOFFSETTO:-0500
TZNAME:CDT
DTSTART:20260308T080000
END:DAYLIGHT
BEGIN:STANDARD
TZOFFSETFROM:-0500
TZOFFSETTO:-0600
TZNAME:CST
DTSTART:20261101T070000
END:STANDARD
BEGIN:DAYLIGHT
TZOFFSETFROM:-0600
TZOFFSETTO:-0500
TZNAME:CDT
DTSTART:20270314T080000
END:DAYLIGHT
BEGIN:STANDARD
TZOFFSETFROM:-0500
TZOFFSETTO:-0600
TZNAME:CST
DTSTART:20271107T070000
END:STANDARD
END:VTIMEZONE
BEGIN:VEVENT
DTSTART;VALUE=DATE:20260501
DTEND;VALUE=DATE:20260601
DTSTAMP:20260424T080102
CREATED:20260319T143201Z
LAST-MODIFIED:20260319T175117Z
UID:3643-1777593600-1780271999@www.warrensburg.org
SUMMARY:Small Business Month
DESCRIPTION:[vc_row][vc_column][vc_single_image image=”3644″ img_size=”full” alignment=”center” css=””][vc_empty_space][/vc_column][/vc_row][vc_row][vc_column][vc_column_text css=””]Get ready for a MONTH of celebrating our amazing small businesses! This May we are taking Small Business Week to the NEXT LEVEL with a month-long spotlight on the incredible small businesses in Warrensburg. We will be visiting our chamber members in Higginsville\, Holden\, Knob Noster\, Sedalia\, Warrensburg. \nJoin us throughout May as we spotlight and support the businesses that help build our communities![/vc_column_text][vc_empty_space][/vc_column][/vc_row][vc_row][vc_column][vc_button title=”Follow Along On Facebook” target=”_blank” full_width=”true” href=”https://www.facebook.com/share/1HYdF8PV8k/”][vc_empty_space][/vc_column][/vc_row][vc_row disable_element=”yes”][vc_column][vc_custom_heading text=”REGISTER NOW” use_theme_fonts=”yes” css=””][vc_separator style=”solid” color=”#000000″ padding_top=”10″ padding_bottom=”20″]\n\n                \n                        \n							"*" indicates required fields \n                        					\n						Δ\n						\n						\n\n					\n                        Company/Organization*Name*\n                            \n                            \n                                                    \n                                                    First\n                                                \n                            \n                            \n                                                    \n                                                    Last\n                                                \n                            \n                        Email*\n                            \n                        Phone*Legislative Luncheon*\n					\n					\n						Price:\n							\n					\n					\n				How Many Tickets Would You Like To Purchase?This field is hidden when viewing the formNumber Of Additional AttendeesPlease List The Additional Attendees In Your Party:*First NameLast Name    Add   RemoveSubtotal\n            \n                $0.00\n                \n            Payment Method*Select OneCredit cardPay at doorPay by phoneCheckConvenience Fee\n            \n                $0.00\n                \n            Please note that a 3% convenience fee will be applied to all credit card transactions.Networking Ticket Discount\n            \n                $0.00\n                \n            Total\n							\n						Credit Card*Card Details\n					\n					Cardholder Name\n				\n			\n          \n            \n            \n            \n            \n            \n            \n            \n            \n            \n            \n            \n            \n            \n        \n                        \n                        \n		                \n		                \n[/vc_column][/vc_row]
URL:https://www.warrensburg.org/event/small-business-month/
CATEGORIES:Annual Events,Upcoming Events
ATTACH;FMTTYPE=image/jpeg:https://www.warrensburg.org/wp-content/uploads/2026/03/653892515_1332570122250560_3947225623047013928_n.jpg
END:VEVENT
BEGIN:VEVENT
DTSTART;TZID=America/Chicago:20260501T090000
DTEND;TZID=America/Chicago:20260501T100000
DTSTAMP:20260424T080102
CREATED:20260327T140323Z
LAST-MODIFIED:20260330T162829Z
UID:3696-1777626000-1777629600@www.warrensburg.org
SUMMARY:Morning BREW
DESCRIPTION:[vc_row][vc_column][vc_single_image image=”3697″ img_size=”full” alignment=”center” css=””][vc_empty_space][/vc_column][/vc_row][vc_row][vc_column][vc_column_text css=””]You’re invited to join us for Morning Brew on Friday\, May 1st from 9:00 AM to 10:00 AM at Café du Burg! Start your day with fresh coffee\, friendly faces\, and meaningful conversation in a relaxed\, welcoming environment. This informal gathering is a great opportunity to connect with fellow business professionals\, community members\, and local leaders. \nWhether you’re looking to grow your network\, share upcoming events\, or simply stay engaged with what’s happening in and around Warrensburg\, Morning Brew is the perfect place to do it. \nBe sure to bring your business cards\, a guest or colleague\, and any flyers or announcements you’d like to share. We encourage open dialogue\, idea sharing\, and collaboration\, so come prepared to engage and contribute. \nPlease note: Meals are not provided\, so plan accordingly. \nDate: Friday\, May 1st 2026\nTime: 9:00am – 10:00am\nLocation: Café Du Burg\, 211 N Holden St\, Warrensburg\, MO 64093 \n[/vc_column_text][vc_empty_space][/vc_column][/vc_row][vc_row][vc_column][vc_button title=”RSVP” target=”_blank” full_width=”true” href=”https://lp.constantcontactpages.com/ev/reg/uneddgg”][vc_empty_space][/vc_column][/vc_row][vc_row disable_element=”yes”][vc_column][vc_custom_heading text=”Register Now” use_theme_fonts=”yes” css=””][vc_separator style=”solid” color=”#000000″ padding_top=”10″ padding_bottom=”20″]\n                \n                        \n							"*" indicates required fields \n                        					\n						Δ\n						\n						\n\n					\n                        Business/Organization*Attendee Name*\n                            \n                            \n                                                    \n                                                    First\n                                                \n                            \n                            \n                                                    \n                                                    Last\n                                                \n                            \n                        Email*\n                            \n                        Phone*WIN Luncheon Ticket\n					\n					\n						Price:\n							\n					\n					\n				Quantity*This field is hidden when viewing the formAdditional Attendee CountAdditional AttendeesFirst NameLast Name    Add   RemoveSubtotal\n            \n                $0.00\n                \n            Payment Method*Select OneCredit CardPay At The DoorProcessing Fee\n            \n                $0.00\n                \n            Total\n							\n						Credit Card*Card Details\n					\n					Cardholder Name\n				\n			\n          \n            \n            \n            \n            \n            \n            \n            \n            \n            \n            \n            \n            \n            \n        \n                        \n                        \n		                \n		                \n[vc_empty_space][/vc_column][/vc_row]\n 
URL:https://www.warrensburg.org/event/morning-brew-6/
CATEGORIES:BREW,Networking Events,Upcoming Events
ATTACH;FMTTYPE=image/jpeg:https://www.warrensburg.org/wp-content/uploads/2026/03/MAY.jpg
END:VEVENT
BEGIN:VEVENT
DTSTART;TZID=America/Chicago:20260512T120000
DTEND;TZID=America/Chicago:20260512T130000
DTSTAMP:20260424T080102
CREATED:20260401T150618Z
LAST-MODIFIED:20260402T125351Z
UID:3710-1778587200-1778590800@www.warrensburg.org
SUMMARY:LEADS Lunch - Playa Azul
DESCRIPTION:[vc_row][vc_column][vc_single_image image=”3711″ img_size=”full” alignment=”center” css=””][vc_empty_space][/vc_column][/vc_row][vc_row][vc_column][vc_column_text css=””]Build Connections & Support Local at Our Next LEADS Lunch! \nReady to turn your lunch break into a meaningful networking opportunity? Join us for our next LEADS Lunch at Playa Azul\, located at 503 N Maguire St\, Suite E! This gathering is all about building genuine relationships\, learning about fellow local businesses\, and finding ways to support and advocate for one another. \nThis isn’t just about exchanging business cards—it’s about creating real connections. We encourage you to come ready to: \nShare Your Story: Prepare a quick 30–60 second introduction about who you are\, what your business does\, who your ideal clients are\, and what makes your work unique.\nListen & Learn: Take notes\, ask questions\, and discover opportunities to collaborate and support other businesses in our community. \nIt’s a great chance to strengthen your network\, grow your visibility\, and connect with other professionals who care about supporting local. \nMeals not included\, please plan accordingly. \nDate: May 12th\, 2026\nTime: 12:00 – 1:00 pm\nLocation: Playa Azul\, 503 N Maguire St Suite E\, Warrensburg\, MO 64093[/vc_column_text][vc_empty_space][/vc_column][/vc_row][vc_row][vc_column][vc_button title=”RSVP” target=”_blank” full_width=”true” href=”https://lp.constantcontactpages.com/ev/reg/kjzpuk9″][vc_empty_space][/vc_column][/vc_row]
URL:https://www.warrensburg.org/event/leads-lunch-playa-azul/
CATEGORIES:Networking Events,Upcoming Events
ATTACH;FMTTYPE=image/jpeg:https://www.warrensburg.org/wp-content/uploads/2026/04/LEADS-May-1.jpg
END:VEVENT
BEGIN:VEVENT
DTSTART;TZID=America/Chicago:20260513T120000
DTEND;TZID=America/Chicago:20260513T130000
DTSTAMP:20260424T080102
CREATED:20260320T141106Z
LAST-MODIFIED:20260320T193506Z
UID:3663-1778673600-1778677200@www.warrensburg.org
SUMMARY:Ribbon Cutting - Anchor Point
DESCRIPTION:[vc_row][vc_column][vc_single_image image=”3674″ img_size=”full” alignment=”center” css=””][vc_empty_space][/vc_column][/vc_row][vc_row][vc_column][vc_column_text css=””]Join us as we celebrate Anchor Point’s exciting rebranding with a special ribbon cutting ceremony. Come meet their team\, learn more about their refreshed vision\, and be part of this new chapter. \nAt Anchor Point\, their value is defined by the outcomes and experiences they deliver to clients—helping save time\, reach goals\, keep more money\, and create peace of mind. They strive to be more than a trusted CPA\, taking a modern approach to business advising by building customized relationships that go beyond tax and accounting. \nTheir services include: \n\nBusiness Owners’ Toolkit\nSuccession Planning\nHuman Resources Support\nMergers & Acquisitions\nEstate & Trust Planning\nProcess Improvement\nWorkplace & Culture Consulting\nBusiness Valuations\nStrategic Planning & Visioning\n\nDate: Wednesday\, May 13\, 2026\nTime: 12:00 – 1:00 pm\nLocation: Anchor Point\, 505 Burkarth Rd\, Warrensburg\, MO 64093 \nThis event is open to the public\, so bring a friend and stop by to connect with the Anchor Point team. \n[/vc_column_text][vc_empty_space][/vc_column][/vc_row][vc_row][vc_column][vc_button title=”RSVP” target=”_blank” full_width=”true” href=”https://lp.constantcontactpages.com/ev/reg/ehkzmfn”][vc_empty_space][/vc_column][/vc_row][vc_row][vc_column][vc_column_text]\n[/vc_column_text][/vc_column][/vc_row]
URL:https://www.warrensburg.org/event/ribbon-cutting-anchor-point/
CATEGORIES:Networking Events,Upcoming Events
ATTACH;FMTTYPE=image/jpeg:https://www.warrensburg.org/wp-content/uploads/2026/03/Anchor-Point-1.jpg
END:VEVENT
BEGIN:VEVENT
DTSTART;TZID=America/Chicago:20260515T113000
DTEND;TZID=America/Chicago:20260515T133000
DTSTAMP:20260424T080102
CREATED:20260123T161509Z
LAST-MODIFIED:20260327T133524Z
UID:3568-1778844600-1778851800@www.warrensburg.org
SUMMARY:Emergency Responders Appreciation Lunch
DESCRIPTION:[vc_row][vc_column][vc_single_image image=”3695″ img_size=”full” alignment=”center” css=””][vc_empty_space][/vc_column][/vc_row][vc_row][vc_column][vc_column_text css=””]\nYou are cordially invited to join us for a community lunch. Entry is available for a minimum donation of $5\, with all funds raised used to host a complimentary meal for our emergency responders. Join us in showing our great appreciation to all of our Emergency Responders in our community! \nWe are also offering Sponsorship Opportunities at the $250 level. If you are interested in having your name or brand associated with this event\, please reach out to Monica Mitcheltree at (660) 747-3168 or by email at mmitcheltree@warrensburg.org for more details on our sponsorship package. \nAll Emergency Responders Eat Free and can RSVP with the Chamber Office at 660-747-3168. \nThank you to the American Legion for sponsoring the event space. \nThank you to our Event Sponsors Community National Bank & Trust\, Compass Health Network\, IHOP of Warrensburg\, Jaeger Tire\, and Midwest Healthcare & Wellness! \nDate: 5/15/2026\nTime: 11:30 am – 1:30 pm\nLocation: The American Legion\, 733 E Young Ave\, Warrensburg MO \n[/vc_column_text][vc_empty_space][/vc_column][/vc_row][vc_row disable_element=”yes”][vc_column][vc_button title=”REGISTER NOW” target=”_blank” full_width=”true” href=”https://lp.constantcontactpages.com/ev/reg/znpc7sj”][vc_empty_space][/vc_column][/vc_row][vc_row][vc_column][vc_custom_heading text=”Register Now” font_container=”tag:h2|text_align:left|color:%23000000″ use_theme_fonts=”yes” css=””][vc_separator style=”solid” color=”#000000″ padding_top=”10″ padding_bottom=”20″]\n                \n                        \n							"*" indicates required fields \n                        					\n						Δ\n						\n						\n\n					\n                        Contact Name*\n                            \n                            \n                                                    \n                                                    First\n                                                \n                            \n                            \n                                                    \n                                                    Last\n                                                \n                            \n                        Email*\n                            \n                        Phone*Business/Organization*How Many People Will Be Attending?*Please enter a number greater than or equal to 1.Attendees** Please include yourself if you will be attending.Attendee NameIs This Person A First Responder? (Y/N)    Add   RemoveTicket Subtotal\n					\n					\n						Price:\n						$0.00\n					\n					\n					\n				Would you like to make an additional donation? Please notate the amount below if so.\n					\n				Payment Method*Select OneCardOver the PhoneCash and check donations are preferred and may be dropped off at the Warrensburg Chamber of Commerce office\, located at 100 S. Holden St.\n\nYour generosity helps make this appreciation meal possible. Join us in coming together to support and thank our emergency responders!Processing Fee\n            \n                $0.00\n                \n            Total\n							\n						Credit Card*Card Details\n					\n					Cardholder Name\n				\n			\n          \n            \n            \n            \n            \n            \n            \n            \n            \n            \n            \n            \n            \n            \n        \n                        \n                        \n		                \n		                \n[/vc_column][/vc_row]
URL:https://www.warrensburg.org/event/emergency-responders-appreciation-lunch/
CATEGORIES:Annual Events,Upcoming Events
ATTACH;FMTTYPE=image/jpeg:https://www.warrensburg.org/wp-content/uploads/2026/01/event-cover-6.jpg
END:VEVENT
BEGIN:VEVENT
DTSTART;TZID=America/Chicago:20260521T173000
DTEND;TZID=America/Chicago:20260521T193000
DTSTAMP:20260424T080102
CREATED:20260401T144322Z
LAST-MODIFIED:20260402T125325Z
UID:3708-1779384600-1779391800@www.warrensburg.org
SUMMARY:The Club After Hours
DESCRIPTION:[vc_row][vc_column][vc_single_image image=”3709″ img_size=”full” alignment=”center” css=””][vc_empty_space][/vc_column][/vc_row][vc_row][vc_column][vc_column_text css=””]After Hours at The Club at Sandstone is a relaxed\, come-and-go networking event designed to bring professionals together in a fun and welcoming atmosphere. \nJoin us on May 21st for an evening of great conversation\, community connections\, and a chance to experience one of Warrensburg’s premier venues. \nStop by whenever it fits your schedule and connect with fellow professionals and community members in a casual\, laid-back setting. \nWhether you stay for a few minutes or the entire evening\, it’s the perfect opportunity to unwind after work\, build relationships\, and enjoy an evening with the Warrensburg community. \nMeals are not included. Please plan accordingly. \nDate: May 21st\, 2026\nTime: 5:30pm – 7:30pm\nLocation: The Club at Sandstone\, 77 NW Division Rd\, Warrensburg\, MO 64093[/vc_column_text][vc_empty_space][/vc_column][/vc_row][vc_row][vc_column][vc_button title=”RSVP” target=”_blank” full_width=”true” href=”https://lp.constantcontactpages.com/ev/reg/xgfenb3″][vc_empty_space][/vc_column][/vc_row][vc_row disable_element=”yes”][vc_column][vc_custom_heading text=”Register Now” use_theme_fonts=”yes” css=””][vc_separator style=”solid” color=”#000000″ padding_top=”10″ padding_bottom=”20″]\n                \n                        \n							"*" indicates required fields \n                        					\n						Δ\n						\n						\n\n					\n                        Business/Organization*Attendee Name*\n                            \n                            \n                                                    \n                                                    First\n                                                \n                            \n                            \n                                                    \n                                                    Last\n                                                \n                            \n                        Email*\n                            \n                        Phone*WIN Luncheon Ticket\n					\n					\n						Price:\n							\n					\n					\n				Quantity*This field is hidden when viewing the formAdditional Attendee CountAdditional AttendeesFirst NameLast Name    Add   RemoveSubtotal\n            \n                $0.00\n                \n            Payment Method*Select OneCredit CardPay At The DoorProcessing Fee\n            \n                $0.00\n                \n            Total\n							\n						Credit Card*Card Details\n					\n					Cardholder Name\n				\n			\n          \n            \n            \n            \n            \n            \n            \n            \n            \n            \n            \n            \n            \n            \n        \n                        \n                        \n		                \n		                \n[vc_empty_space][/vc_column][/vc_row]
URL:https://www.warrensburg.org/event/the-club-after-hours/
CATEGORIES:Networking Events,Upcoming Events
ATTACH;FMTTYPE=image/jpeg:https://www.warrensburg.org/wp-content/uploads/2026/04/Fitters-AH.jpg
END:VEVENT
BEGIN:VEVENT
DTSTART;TZID=America/Chicago:20260527T113000
DTEND;TZID=America/Chicago:20260527T123000
DTSTAMP:20260424T080102
CREATED:20260415T175658Z
LAST-MODIFIED:20260420T200539Z
UID:3740-1779881400-1779885000@www.warrensburg.org
SUMMARY:Ribbon Cutting - Care Connection
DESCRIPTION:[vc_row][vc_column][vc_single_image image=”3741″ img_size=”full” alignment=”center” css=””][vc_empty_space][/vc_column][/vc_row][vc_row][vc_column][vc_column_text css=””]Join us for a Ribbon Cutting Ceremony with Care Connection as we celebrate their newly remodeled space! \nThis exciting remodel reflects Care Connection’s continued commitment to providing high-quality services in a welcoming and updated environment. We’re proud to recognize their investment in both their facility and the well-being of those they serve in our community. \nThe event will take place on Wednesday\, May 27th at 11:30 AM and is open to the public. Community members are encouraged to attend\, show their support\, and help us celebrate this exciting milestone. \nCome out\, connect\, and help us celebrate this next chapter for Care Connection! \nDate: Wednesday\, May 27th\, 2026\nTime: 11:30 am – 12:30 pm\nLocation: Care Connection\, 106 W Young St\, Warrensburg\, MO 64093[/vc_column_text][vc_empty_space][/vc_column][/vc_row][vc_row][vc_column][vc_button title=”RSVP” target=”_blank” full_width=”true” href=”https://lp.constantcontactpages.com/ev/reg/anxbbxa”][vc_empty_space][/vc_column][/vc_row][vc_row][vc_column][vc_column_text]\n[/vc_column_text][/vc_column][/vc_row]\n 
URL:https://www.warrensburg.org/event/ribbon-cutting-care-connection/
CATEGORIES:Networking Events,Upcoming Events
ATTACH;FMTTYPE=image/jpeg:https://www.warrensburg.org/wp-content/uploads/2026/04/Care-COnnection.jpg
END:VEVENT
END:VCALENDAR