BEGIN:VCALENDAR
VERSION:2.0
PRODID:-//Warrensburg Chamber of Commerce - ECPv6.15.20//NONSGML v1.0//EN
CALSCALE:GREGORIAN
METHOD:PUBLISH
X-WR-CALNAME:Warrensburg Chamber of Commerce
X-ORIGINAL-URL:https://www.warrensburg.org
X-WR-CALDESC:Events for Warrensburg Chamber of Commerce
REFRESH-INTERVAL;VALUE=DURATION:PT1H
X-Robots-Tag:noindex
X-PUBLISHED-TTL:PT1H
BEGIN:VTIMEZONE
TZID:America/Chicago
BEGIN:DAYLIGHT
TZOFFSETFROM:-0600
TZOFFSETTO:-0500
TZNAME:CDT
DTSTART:20250309T080000
END:DAYLIGHT
BEGIN:STANDARD
TZOFFSETFROM:-0500
TZOFFSETTO:-0600
TZNAME:CST
DTSTART:20251102T070000
END:STANDARD
BEGIN:DAYLIGHT
TZOFFSETFROM:-0600
TZOFFSETTO:-0500
TZNAME:CDT
DTSTART:20260308T080000
END:DAYLIGHT
BEGIN:STANDARD
TZOFFSETFROM:-0500
TZOFFSETTO:-0600
TZNAME:CST
DTSTART:20261101T070000
END:STANDARD
BEGIN:DAYLIGHT
TZOFFSETFROM:-0600
TZOFFSETTO:-0500
TZNAME:CDT
DTSTART:20270314T080000
END:DAYLIGHT
BEGIN:STANDARD
TZOFFSETFROM:-0500
TZOFFSETTO:-0600
TZNAME:CST
DTSTART:20271107T070000
END:STANDARD
END:VTIMEZONE
BEGIN:VEVENT
DTSTART;VALUE=DATE:20260925
DTEND;VALUE=DATE:20260926
DTSTAMP:20260424T142350
CREATED:20260323T153358Z
LAST-MODIFIED:20260324T132138Z
UID:3676-1790294400-1790380799@www.warrensburg.org
SUMMARY:26th Annual Chamber Classic
DESCRIPTION:[vc_row][vc_column][vc_column_text css=””]Join Us for the 26th Annual Chamber Classic! \nWe are thrilled to invite you to join us on the greens at Sandstone Country Club for this year’s celebrated tradition. As our 26th Annual Chamber Classic approaches\, we look forward to a day of exceptional networking opportunities set against a\nbeautiful backdrop. \nThis annual tournament serves as a vital fundraiser\, directly bolstering the Chamber’s initiatives and our ongoing commitment to the Warrensburg business community. To accommodate our growing community\, we are excited to continue the Double Shotgun format\, allowing even more participants to take part in this\npremier event. \nA Legacy of Support\nThe Warrensburg Chamber of Commerce extends its sincere gratitude to everyone who made our 25th Annual Chamber Classic at Mules National Golf Club such a success last September. Your participation is what makes this a cornerstone event for our region. \nWe also want to express our profound thanks to Warrensburg Lowe’s for their incredible 15th consecutive year of unwavering support. Their long-standing dedication is a true testament to their commitment to our local economy. We can’t wait to see you at Sandstone Country Club to continue this tradition of sport\, networking\, and community growth! \nDate: Friday\, Sept 25th\, 2026\nLocation: Sandstone Country Club\nDouble Shotgun\, 4-Person Scramble \nCheck-In Time: \n\n7:00 am for 8:00 am start\n12:30 pm for 1:30 pm start\n\nLunch: 11:30 am – 1:30 pm \nRegistration Deadline: Friday\, September 11th\, 2026 \nContact:\nKelly Davenport\nchamber@warrensburg.org\n(660) 747-3168\nWarrensburg Chamber of Commerce\n100 S. Holden\, Warrensburg\, MO 64093 \n[/vc_column_text][vc_empty_space][/vc_column][/vc_row][vc_row][vc_column][vc_separator style=”solid” color=”#000000″ padding_top=”10″ padding_bottom=”20″][vc_column_text css=””]\nREGISTRATION COMING SOON \n[/vc_column_text][vc_empty_space][/vc_column][/vc_row]\n  \n  \n 
URL:https://www.warrensburg.org/golf-tournament/
CATEGORIES:Annual Events,Upcoming Events
ATTACH;FMTTYPE=image/jpeg:https://www.warrensburg.org/wp-content/uploads/2026/03/Annual-Chamber-Classic.jpg
END:VEVENT
END:VCALENDAR