BEGIN:VCALENDAR
VERSION:2.0
PRODID:-//Warrensburg Chamber of Commerce - ECPv6.15.20//NONSGML v1.0//EN
CALSCALE:GREGORIAN
METHOD:PUBLISH
X-WR-CALNAME:Warrensburg Chamber of Commerce
X-ORIGINAL-URL:https://www.warrensburg.org
X-WR-CALDESC:Events for Warrensburg Chamber of Commerce
REFRESH-INTERVAL;VALUE=DURATION:PT1H
X-Robots-Tag:noindex
X-PUBLISHED-TTL:PT1H
BEGIN:VTIMEZONE
TZID:America/Chicago
BEGIN:DAYLIGHT
TZOFFSETFROM:-0600
TZOFFSETTO:-0500
TZNAME:CDT
DTSTART:20250309T080000
END:DAYLIGHT
BEGIN:STANDARD
TZOFFSETFROM:-0500
TZOFFSETTO:-0600
TZNAME:CST
DTSTART:20251102T070000
END:STANDARD
BEGIN:DAYLIGHT
TZOFFSETFROM:-0600
TZOFFSETTO:-0500
TZNAME:CDT
DTSTART:20260308T080000
END:DAYLIGHT
BEGIN:STANDARD
TZOFFSETFROM:-0500
TZOFFSETTO:-0600
TZNAME:CST
DTSTART:20261101T070000
END:STANDARD
BEGIN:DAYLIGHT
TZOFFSETFROM:-0600
TZOFFSETTO:-0500
TZNAME:CDT
DTSTART:20270314T080000
END:DAYLIGHT
BEGIN:STANDARD
TZOFFSETFROM:-0500
TZOFFSETTO:-0600
TZNAME:CST
DTSTART:20271107T070000
END:STANDARD
END:VTIMEZONE
BEGIN:VEVENT
DTSTART;TZID=America/Chicago:20260603T120000
DTEND;TZID=America/Chicago:20260603T130000
DTSTAMP:20260424T111250
CREATED:20260415T182615Z
LAST-MODIFIED:20260420T232919Z
UID:3742-1780488000-1780491600@www.warrensburg.org
SUMMARY:Ribbon Cutting - Cold Stone Creamery
DESCRIPTION:[vc_row][vc_column][vc_single_image image=”3743″ img_size=”full” alignment=”center” css=””][vc_empty_space][/vc_column][/vc_row][vc_row][vc_column][vc_column_text css=””]Join us for a ribbon cutting ceremony at Cold Stone Creamery in Warrensburg on Wednesday\, June 3 at noon! \nHelp us celebrate one year of serving up sweet treats in our community\, their continued growth\, and officially welcoming them as a new Chamber member. Cold Stone Creamery has quickly become a local favorite\, and we’re excited to recognize their investment in Warrensburg and the impact they’ve made over the past year. \nThis event is open to the public\, community members\, friends\, and families are all encouraged to attend and show their support. Stick around after the ceremony to connect\, celebrate\, and enjoy the fun! \nPlus\, it’s Waffle Cone Wednesday! Guests can enjoy a FREE plain waffle cone as part of the celebration. \nCome out\, help us cut the ribbon\, and celebrate this sweet milestone together! \nDate: Wednesday\, June 3rd\, 2026\nTime: 12:00 – 1:00 pm\nLocation: Cold Stone Creamery\, 800 N Maguire St Suite C\, Warrensburg\, MO 64093[/vc_column_text][vc_empty_space][/vc_column][/vc_row][vc_row][vc_column][vc_button title=”RSVP” target=”_blank” full_width=”true” href=”https://lp.constantcontactpages.com/ev/reg/uv66rce”][vc_empty_space][/vc_column][/vc_row][vc_row][vc_column][vc_column_text]\n[/vc_column_text][/vc_column][/vc_row][vc_row][vc_column][vc_column_text]\n[/vc_column_text][/vc_column][/vc_row]
URL:https://www.warrensburg.org/event/ribbon-cutting-cold-stone-creamery/
CATEGORIES:Networking Events,Upcoming Events
ATTACH;FMTTYPE=image/jpeg:https://www.warrensburg.org/wp-content/uploads/2026/04/Cold-Stone-RC.jpg
END:VEVENT
BEGIN:VEVENT
DTSTART;TZID=America/Chicago:20260604T163000
DTEND;TZID=America/Chicago:20260604T173000
DTSTAMP:20260424T111250
CREATED:20260415T153311Z
LAST-MODIFIED:20260420T232856Z
UID:3727-1780590600-1780594200@www.warrensburg.org
SUMMARY:Ribbon Cutting - Morris L. Collins Early Childhood Center
DESCRIPTION:[vc_row][vc_column][vc_single_image image=”3729″ img_size=”full” alignment=”center” css=””][vc_empty_space][/vc_column][/vc_row][vc_row][vc_column][vc_column_text css=””]Join us for a special Ribbon Cutting and Grand Opening celebration for the Morris L. Collins Early Childhood Center on Thursday\, June 4\, 2026\, at 4:30 PM! \nThis exciting new facility represents a major investment in the future of Warrensburg\, providing high-quality early childhood education in a welcoming and innovative environment. We’re proud to celebrate this important milestone alongside school leaders\, educators\, families\, and community members. \nGuests will have the opportunity to tour the new center\, learn more about its programs\, and see firsthand how this space will support the growth and development of our youngest learners. \nThis event is open to the public\, and all are encouraged to attend and help us welcome this incredible addition to the Warrensburg community. \nLearn more about the Morris L. Collins Early Childhood Center HERE \nDate: Thursday\, Jun 4th\, 2026\nTime: 4:30 – 5:30 pm\nLocation: Morris L. Collins Early Childhood Center\, 1047 S. Maguire St\, Warrensburg\, MO 64093[/vc_column_text][vc_empty_space][/vc_column][/vc_row][vc_row][vc_column][vc_button title=”RSVP” target=”_blank” full_width=”true” href=”https://lp.constantcontactpages.com/ev/reg/8ep6vq8″][vc_empty_space][/vc_column][/vc_row][vc_row][vc_column][vc_column_text]\n[/vc_column_text][/vc_column][/vc_row]
URL:https://www.warrensburg.org/event/ribbon-cutting-morris-l-collins-early-childhood-center/
CATEGORIES:Networking Events,Upcoming Events
ATTACH;FMTTYPE=image/jpeg:https://www.warrensburg.org/wp-content/uploads/2026/04/Morris-L.-Collins.jpg
END:VEVENT
BEGIN:VEVENT
DTSTART;TZID=America/Chicago:20260605T090000
DTEND;TZID=America/Chicago:20260605T100000
DTSTAMP:20260424T111250
CREATED:20260401T151024Z
LAST-MODIFIED:20260402T125300Z
UID:3712-1780650000-1780653600@www.warrensburg.org
SUMMARY:Morning BREW
DESCRIPTION:[vc_row][vc_column][vc_single_image image=”3713″ img_size=”full” alignment=”center” css=””][vc_empty_space][/vc_column][/vc_row][vc_row][vc_column][vc_column_text css=””]You’re invited to join us for Morning Brew on Friday\, June 5th from 9:00 AM to 10:00 AM at Café du Burg! Start your day with fresh coffee\, friendly faces\, and meaningful conversation in a relaxed\, welcoming environment. This informal gathering is a great opportunity to connect with fellow business professionals\, community members\, and local leaders. \nWhether you’re looking to grow your network\, share upcoming events\, or simply stay engaged with what’s happening in and around Warrensburg\, Morning Brew is the perfect place to do it. \nBe sure to bring your business cards\, a guest or colleague\, and any flyers or announcements you’d like to share. We encourage open dialogue\, idea sharing\, and collaboration\, so come prepared to engage and contribute. \nPlease note: Meals are not provided\, so plan accordingly. \nDate: Friday\, June 5th 2026\nTime: 9:00am – 10:00am\nLocation: Cafe Du Burg\, 211 N Holden St\, Warrensburg\, MO 64093 \n[/vc_column_text][vc_empty_space][/vc_column][/vc_row][vc_row][vc_column][vc_button title=”RSVP” target=”_blank” full_width=”true” href=”https://lp.constantcontactpages.com/ev/reg/ka46z2k”][vc_empty_space][/vc_column][/vc_row][vc_row disable_element=”yes”][vc_column][vc_custom_heading text=”Register Now” use_theme_fonts=”yes” css=””][vc_separator style=”solid” color=”#000000″ padding_top=”10″ padding_bottom=”20″]\n\n                \n                        \n							"*" indicates required fields \n                        					\n						Δ\n						\n						\n\n					\n                        Business/Organization*Attendee Name*\n                            \n                            \n                                                    \n                                                    First\n                                                \n                            \n                            \n                                                    \n                                                    Last\n                                                \n                            \n                        Email*\n                            \n                        Phone*WIN Luncheon Ticket\n					\n					\n						Price:\n							\n					\n					\n				Quantity*This field is hidden when viewing the formAdditional Attendee CountAdditional AttendeesFirst NameLast Name    Add   RemoveSubtotal\n            \n                $0.00\n                \n            Payment Method*Select OneCredit CardPay At The DoorProcessing Fee\n            \n                $0.00\n                \n            Total\n							\n						Credit Card*Card Details\n					\n					Cardholder Name\n				\n			\n          \n            \n            \n            \n            \n            \n            \n            \n            \n            \n            \n            \n            \n            \n        \n                        \n                        \n		                \n		                \n[vc_empty_space][/vc_column][/vc_row][vc_row][vc_column][vc_column_text]\n[/vc_column_text][/vc_column][/vc_row]
URL:https://www.warrensburg.org/event/morning-brew-10/
CATEGORIES:BREW,Networking Events,Upcoming Events
ATTACH;FMTTYPE=image/jpeg:https://www.warrensburg.org/wp-content/uploads/2026/04/June.jpg
END:VEVENT
BEGIN:VEVENT
DTSTART;TZID=America/Chicago:20260609T120000
DTEND;TZID=America/Chicago:20260609T130000
DTSTAMP:20260424T111250
CREATED:20260401T153936Z
LAST-MODIFIED:20260402T125234Z
UID:3715-1781006400-1781010000@www.warrensburg.org
SUMMARY:LEADS Lunch - El Monterrey
DESCRIPTION:[vc_row][vc_column][vc_single_image image=”3716″ img_size=”full” alignment=”center” css=””][vc_empty_space][/vc_column][/vc_row][vc_row][vc_column][vc_column_text css=””]Build Connections & Support Local at Our Next LEADS Lunch! \nReady to turn your lunch break into a meaningful networking opportunity? Join us for our next LEADS Lunch at El Monterrey! This gathering is all about building genuine relationships\, learning about fellow local businesses\, and finding ways to support and advocate for one another. \nThis isn’t just about exchanging business cards—it’s about creating real connections. We encourage you to come ready to: \nShare Your Story: Prepare a quick 30–60 second introduction about who you are\, what your business does\, who your ideal clients are\, and what makes your work unique.\nListen & Learn: Take notes\, ask questions\, and discover opportunities to collaborate and support other businesses in our community. \nIt’s a great chance to strengthen your network\, grow your visibility\, and connect with other professionals who care about supporting local. \nMeals not included\, please plan accordingly. \nDate: June 9th\, 2026\nTime: 12:00 – 1:00 pm\nLocation: El Monterrey\, 120 Cooper Blvd D\, Warrensburg\, MO 64093[/vc_column_text][vc_empty_space][/vc_column][/vc_row][vc_row][vc_column][vc_button title=”RSVP” target=”_blank” full_width=”true” href=”https://lp.constantcontactpages.com/ev/reg/ktaq79p”][vc_empty_space][/vc_column][/vc_row]
URL:https://www.warrensburg.org/event/leads-lunch-el-monterrey/
CATEGORIES:Networking Events,Upcoming Events
ATTACH;FMTTYPE=image/jpeg:https://www.warrensburg.org/wp-content/uploads/2026/04/LEADS-June-.jpg
END:VEVENT
BEGIN:VEVENT
DTSTART;TZID=America/Chicago:20260618T173000
DTEND;TZID=America/Chicago:20260618T193000
DTSTAMP:20260424T111250
CREATED:20260401T154832Z
LAST-MODIFIED:20260402T125205Z
UID:3717-1781803800-1781811000@www.warrensburg.org
SUMMARY:Sushi After Hours
DESCRIPTION:[vc_row][vc_column][vc_single_image image=”3718″ img_size=”full” alignment=”center” css=””][vc_empty_space][/vc_column][/vc_row][vc_row][vc_column][vc_column_text css=””]Sushi After Hours is a relaxed\, come-and-go networking event designed to bring professionals together in a fun\, welcoming atmosphere. Join us at Oriental Cuisine on June 18th from 5:30PM – 7:30PM for an evening of great conversation\, community connections\, and delicious sushi and Asian cuisine. \nStop by whenever it fits your schedule\, grab your favorite roll or menu item\, and connect with fellow professionals and community members in a lively\, casual setting. \nWhether you stay for a few minutes or the whole evening\, it’s the perfect opportunity to unwind after work\, build relationships\, and enjoy a unique evening with the Warrensburg community. \nMeals are not included. Please plan accordingly. \nDate: June 18th\, 2026\nTime: 5:30pm – 7:30pm\nLocation: Oriental Cuisine\, 705 Burkarth Rd\, Warrensburg\, MO 64093[/vc_column_text][vc_empty_space][/vc_column][/vc_row][vc_row][vc_column][vc_button title=”RSVP” target=”_blank” full_width=”true” href=”https://lp.constantcontactpages.com/ev/reg/dmpvd9j”][vc_empty_space][/vc_column][/vc_row][vc_row disable_element=”yes”][vc_column][vc_custom_heading text=”Register Now” use_theme_fonts=”yes” css=””][vc_separator style=”solid” color=”#000000″ padding_top=”10″ padding_bottom=”20″]\n                \n                        \n							"*" indicates required fields \n                        					\n						Δ\n						\n						\n\n					\n                        Business/Organization*Attendee Name*\n                            \n                            \n                                                    \n                                                    First\n                                                \n                            \n                            \n                                                    \n                                                    Last\n                                                \n                            \n                        Email*\n                            \n                        Phone*WIN Luncheon Ticket\n					\n					\n						Price:\n							\n					\n					\n				Quantity*This field is hidden when viewing the formAdditional Attendee CountAdditional AttendeesFirst NameLast Name    Add   RemoveSubtotal\n            \n                $0.00\n                \n            Payment Method*Select OneCredit CardPay At The DoorProcessing Fee\n            \n                $0.00\n                \n            Total\n							\n						Credit Card*Card Details\n					\n					Cardholder Name\n				\n			\n          \n            \n            \n            \n            \n            \n            \n            \n            \n            \n            \n            \n            \n            \n        \n                        \n                        \n		                \n		                \n[vc_empty_space][/vc_column][/vc_row]
URL:https://www.warrensburg.org/event/sushi-after-hours-2/
CATEGORIES:Networking Events,Upcoming Events
ATTACH;FMTTYPE=image/jpeg:https://www.warrensburg.org/wp-content/uploads/2026/04/Oriental-June-AH-1.jpg
END:VEVENT
BEGIN:VEVENT
DTSTART;TZID=America/Chicago:20260624T160000
DTEND;TZID=America/Chicago:20260624T170000
DTSTAMP:20260424T111250
CREATED:20260401T155159Z
LAST-MODIFIED:20260402T011030Z
UID:3719-1782316800-1782320400@www.warrensburg.org
SUMMARY:Member Information Session
DESCRIPTION:[vc_row][vc_column][vc_single_image image=”3720″ img_size=”full” alignment=”center” css=””][vc_empty_space][/vc_column][/vc_row][vc_row][vc_column][vc_column_text css=””]\nDiscover the Full Value of Your Chamber Membership! \nJoin Our Upcoming Member Info Session\, Don’t Miss Out! Your Chamber of Commerce is dedicated to helping your business thrive. Attend our member information session to learn how we can support your growth and success. Get answers to your questions and gain valuable insights into all the benefits available to you. \nTopics will include: \n\nNetworking events and connections\nMarketing and promotional tools\nAdvocacy on behalf of your business\n…and much more!\n\nFor questions\, contact Monica Mitcheltree\, Member Relations & Communications Coordinator:\nmmitcheltree@warrensburg.org | 660-460-7628 \nDate: 6/24/2026\nTime: 4:00 – 5:00 pm\nLocation: Jack Moore Community Room\, 100 S Holden St\, Warrensburg\, MO 64093 \n[/vc_column_text][vc_empty_space][/vc_column][/vc_row][vc_row][vc_column][vc_button title=”RSVP” target=”_blank” full_width=”true” href=”https://lp.constantcontactpages.com/ev/reg/evtp76x”][vc_empty_space][/vc_column][/vc_row]
URL:https://www.warrensburg.org/event/member-information-session-3/
CATEGORIES:Networking Events,Upcoming Events
ATTACH;FMTTYPE=image/jpeg:https://www.warrensburg.org/wp-content/uploads/2026/04/June-1.jpg
END:VEVENT
BEGIN:VEVENT
DTSTART;TZID=America/Chicago:20260711T113000
DTEND;TZID=America/Chicago:20260711T123000
DTSTAMP:20260424T111250
CREATED:20260415T173436Z
LAST-MODIFIED:20260420T232758Z
UID:3735-1783769400-1783773000@www.warrensburg.org
SUMMARY:Ribbon Cutting - Z Hair Academy
DESCRIPTION:[vc_row][vc_column][vc_single_image image=”3745″ img_size=”full” alignment=”center” css=””][vc_empty_space][/vc_column][/vc_row][vc_row][vc_column][vc_column_text css=””]Join us for a Ribbon Cutting Ceremony celebrating Z Hair Academy on Saturday\, July 11th at 11:30 AM! \nHelp us officially welcome Z Hair Academy to the Warrensburg community! This exciting new academy is dedicated to training the next generation of cosmetology professionals\, offering hands-on education and real-world experience in the beauty industry. \nCome meet the team\, learn more about their cosmetology program\, and see how they’re creating opportunities for students to build successful careers right here in our community. \nThis event is open to the public—friends\, families\, and community members are all encouraged to attend and show their support. Let’s give Z Hair Academy a warm Warrensburg welcome! \nLearn more about their program HERE \nDate: Saturday\, July 11th\, 2026\nTime: 11:30 am – 12:30 pm\nLocation: Z Hair Academy\, 727A N Charles St\, Warrensburg\, MO 64093[/vc_column_text][vc_empty_space][/vc_column][/vc_row][vc_row][vc_column][vc_button title=”RSVP” target=”_blank” full_width=”true” href=”https://lp.constantcontactpages.com/ev/reg/mgtudc9″][vc_empty_space][/vc_column][/vc_row][vc_row][vc_column][vc_column_text]\n[/vc_column_text][/vc_column][/vc_row]
URL:https://www.warrensburg.org/event/ribbon-cutting-z-hair-academy/
CATEGORIES:Networking Events,Upcoming Events
ATTACH;FMTTYPE=image/jpeg:https://www.warrensburg.org/wp-content/uploads/2026/04/Z-Hair-1.jpg
END:VEVENT
BEGIN:VEVENT
DTSTART;TZID=America/Chicago:20260723T180000
DTEND;TZID=America/Chicago:20260723T210000
DTSTAMP:20260424T111250
CREATED:20260319T184514Z
LAST-MODIFIED:20260421T202902Z
UID:3651-1784829600-1784840400@www.warrensburg.org
SUMMARY:Annual Awards & Social
DESCRIPTION:[vc_row][vc_column][vc_single_image image=”3652″ img_size=”full” alignment=”center” css=””][vc_empty_space][/vc_column][/vc_row][vc_row][vc_column][vc_column_text css=””]We’re excited to announce the theme for this year’s Chamber event: Stars\, Stripes\, & Success! \nJoin us for an evening of celebration\, recognition\, and community pride at the Warrensburg Chamber of Commerce Annual Awards & Social! Together\, we’ll honor the outstanding achievements and contributions of our incredible Chamber members—the true stars of our business community. \nBefore we celebrate\, we need YOUR help! Nominations are now open for: \n\nGlazebrook Community Partner of the Year\nSmall Business Excellence Award (Less Than 15 Employees)\nChamber Business of the Year (More Than 15 Employees)\nEmerging Professional of the Year\nChamber Member of the Year\nSpirit Champion of the Year\n\nWho will take center stage this year? \nSubmit your nominations and help us recognize the businesses and individuals making a difference in Warrensburg! Printed nomination forms can be picked up at the Chamber office (100 S. Holden St.) and returned in person or emailed to staylor@warrensburg.org by 5:00 PM on June 25\, 2026. \nWe’ll also welcome our newly elected Chamber Board Members and thank our outgoing members for their dedication and service. \nView Past Award Winners Here » \nTickets and Sponsorships AVAILABLE SOON! \nDate: Thursday\, July 23\, 2026\nTime: 6:00pm – 9:00pm\nAttire: Business Casual\nLocation: American Legion\, 733 E Young Ave\, Warrensburg\, MO 64093[/vc_column_text][vc_empty_space][/vc_column][/vc_row][vc_row][vc_column][vc_button title=”AWARD NOMINATIONS” full_width=”true” href=”https://www.warrensburg.org/award-nominations/”][vc_empty_space height=”10px”][vc_button title=”Tickets & Sponsorships” full_width=”true” href=”https://www.warrensburg.org/events/annual-awards-social-sponsor-registration/”][vc_empty_space][/vc_column][/vc_row][vc_row disable_element=”yes”][vc_column][vc_custom_heading text=”REGISTER NOW” use_theme_fonts=”yes” css=””][vc_separator style=”solid” color=”#000000″ padding_top=”10″ padding_bottom=”20″]\n                \n                        \n							"*" indicates required fields \n                        					\n						Δ\n						\n						\n\n					\n                        Company/Organization*Name*\n                            \n                            \n                                                    \n                                                    First\n                                                \n                            \n                            \n                                                    \n                                                    Last\n                                                \n                            \n                        Email*\n                            \n                        Phone*Legislative Luncheon*\n					\n					\n						Price:\n							\n					\n					\n				How Many Tickets Would You Like To Purchase?This field is hidden when viewing the formNumber Of Additional AttendeesPlease List The Additional Attendees In Your Party:*First NameLast Name    Add   RemoveSubtotal\n            \n                $0.00\n                \n            Payment Method*Select OneCredit cardPay at doorPay by phoneCheckConvenience Fee\n            \n                $0.00\n                \n            Please note that a 3% convenience fee will be applied to all credit card transactions.Networking Ticket Discount\n            \n                $0.00\n                \n            Total\n							\n						Credit Card*Card Details\n					\n					Cardholder Name\n				\n			\n          \n            \n            \n            \n            \n            \n            \n            \n            \n            \n            \n            \n            \n            \n        \n                        \n                        \n		                \n		                \n[/vc_column][/vc_row]
URL:https://www.warrensburg.org/event/annual-awards-social/
CATEGORIES:Annual Events,Upcoming Events
ATTACH;FMTTYPE=image/jpeg:https://www.warrensburg.org/wp-content/uploads/2026/03/FY26-Annual-Awards-Save-the-date.jpg
END:VEVENT
BEGIN:VEVENT
DTSTART;VALUE=DATE:20260925
DTEND;VALUE=DATE:20260926
DTSTAMP:20260424T111251
CREATED:20260323T153358Z
LAST-MODIFIED:20260324T132138Z
UID:3676-1790294400-1790380799@www.warrensburg.org
SUMMARY:26th Annual Chamber Classic
DESCRIPTION:[vc_row][vc_column][vc_column_text css=””]Join Us for the 26th Annual Chamber Classic! \nWe are thrilled to invite you to join us on the greens at Sandstone Country Club for this year’s celebrated tradition. As our 26th Annual Chamber Classic approaches\, we look forward to a day of exceptional networking opportunities set against a\nbeautiful backdrop. \nThis annual tournament serves as a vital fundraiser\, directly bolstering the Chamber’s initiatives and our ongoing commitment to the Warrensburg business community. To accommodate our growing community\, we are excited to continue the Double Shotgun format\, allowing even more participants to take part in this\npremier event. \nA Legacy of Support\nThe Warrensburg Chamber of Commerce extends its sincere gratitude to everyone who made our 25th Annual Chamber Classic at Mules National Golf Club such a success last September. Your participation is what makes this a cornerstone event for our region. \nWe also want to express our profound thanks to Warrensburg Lowe’s for their incredible 15th consecutive year of unwavering support. Their long-standing dedication is a true testament to their commitment to our local economy. We can’t wait to see you at Sandstone Country Club to continue this tradition of sport\, networking\, and community growth! \nDate: Friday\, Sept 25th\, 2026\nLocation: Sandstone Country Club\nDouble Shotgun\, 4-Person Scramble \nCheck-In Time: \n\n7:00 am for 8:00 am start\n12:30 pm for 1:30 pm start\n\nLunch: 11:30 am – 1:30 pm \nRegistration Deadline: Friday\, September 11th\, 2026 \nContact:\nKelly Davenport\nchamber@warrensburg.org\n(660) 747-3168\nWarrensburg Chamber of Commerce\n100 S. Holden\, Warrensburg\, MO 64093 \n[/vc_column_text][vc_empty_space][/vc_column][/vc_row][vc_row][vc_column][vc_separator style=”solid” color=”#000000″ padding_top=”10″ padding_bottom=”20″][vc_column_text css=””]\nREGISTRATION COMING SOON \n[/vc_column_text][vc_empty_space][/vc_column][/vc_row]\n  \n  \n 
URL:https://www.warrensburg.org/golf-tournament/
CATEGORIES:Annual Events,Upcoming Events
ATTACH;FMTTYPE=image/jpeg:https://www.warrensburg.org/wp-content/uploads/2026/03/Annual-Chamber-Classic.jpg
END:VEVENT
END:VCALENDAR