BEGIN:VCALENDAR
VERSION:2.0
PRODID:-//Warrensburg Chamber of Commerce - ECPv6.15.20//NONSGML v1.0//EN
CALSCALE:GREGORIAN
METHOD:PUBLISH
X-ORIGINAL-URL:https://www.warrensburg.org
X-WR-CALDESC:Events for Warrensburg Chamber of Commerce
REFRESH-INTERVAL;VALUE=DURATION:PT1H
X-Robots-Tag:noindex
X-PUBLISHED-TTL:PT1H
BEGIN:VTIMEZONE
TZID:UTC
BEGIN:STANDARD
TZOFFSETFROM:+0000
TZOFFSETTO:+0000
TZNAME:UTC
DTSTART:20240101T000000
END:STANDARD
END:VTIMEZONE
BEGIN:VEVENT
DTSTART;VALUE=DATE:20250801
DTEND;VALUE=DATE:20250906
DTSTAMP:20260419T111436
CREATED:20250731T143224Z
LAST-MODIFIED:20260312T180535Z
UID:3300-1754006400-1757116799@www.warrensburg.org
SUMMARY:Paint the Town Red
DESCRIPTION:[vc_row][vc_column][vc_single_image image=”3301″ img_size=”full” alignment=”center” css=””][vc_empty_space][/vc_column][/vc_row][vc_row][vc_column][vc_column_text css=””]\nPaint the Town Red is an event hosted by the Warrensburg Chamber of Commerce to help promote the Get the Red Out Street Fair happening on Sept. 7th. Businesses in our community can sign-up between Aug. 1st at 9 a.m. through Aug. 18th at 5 p.m. \nTo participate in Paint the Town Red\, businesses will need to paint windows UCM themed\, have Mo the Mule\, or use the 2025 UCM Homecoming theme\, “Lights\, Camera\, CENTRAL.” Businesses please refer to the timeline below to stay on track of when events will be taking place. Get creative with it and have fun. \n*Businesses do not have to be a Chamber member to participate* \nIn case of inclement weather\, please take a photo of your artwork as soon as it’s completed and submit it to us. \nPaint the Town Red Timeline: \n\nAug. 1st: Businesses can sign-up to participate\nAug. 18th: Sign-ups to participate close at 5 p.m.\nAug. 22nd & Aug. 29th: The Chamber and Mo will be stopping by businesses to take photos on one of these days\nAug. 31st: Windows must be completed and a photo submitted by 5 p.m. (details below on where to submit)\nSept. 1st: Photos will be posted on the Chamber’s Facebook page for voting to begin\nSept. 4th: Voting closes at 4:30 p.m.\nSept. 5th: The winner will be announced on all social platforms at noon\n\nFollow the Warrensburg Chamber of Commerce Facebook page @BurgChamberMO to stay up to date on Paint the Town Red! \n[/vc_column_text][vc_empty_space][/vc_column][/vc_row][vc_row disable_element=”yes”][vc_column][vc_custom_heading text=”SEND US YOUR PHOTO SUBMISSIONS!” use_theme_fonts=”yes” css=””][vc_separator style=”solid” color=”#000000″ padding_top=”10″ padding_bottom=”20″]Submissions Are Now Closed! [vc_empty_space][/vc_column][/vc_row]
URL:https://www.warrensburg.org/event/paint-the-town-red-2/
CATEGORIES:Annual Events,Upcoming Events
ATTACH;FMTTYPE=image/png:https://www.warrensburg.org/wp-content/uploads/2025/07/Final-51.png
END:VEVENT
END:VCALENDAR