BEGIN:VCALENDAR
VERSION:2.0
PRODID:-//Warrensburg Chamber of Commerce - ECPv6.15.20//NONSGML v1.0//EN
CALSCALE:GREGORIAN
METHOD:PUBLISH
X-ORIGINAL-URL:https://www.warrensburg.org
X-WR-CALDESC:Events for Warrensburg Chamber of Commerce
REFRESH-INTERVAL;VALUE=DURATION:PT1H
X-Robots-Tag:noindex
X-PUBLISHED-TTL:PT1H
BEGIN:VTIMEZONE
TZID:UTC
BEGIN:STANDARD
TZOFFSETFROM:+0000
TZOFFSETTO:+0000
TZNAME:UTC
DTSTART:20240101T000000
END:STANDARD
END:VTIMEZONE
BEGIN:VEVENT
DTSTART;TZID=UTC:20250805T080000
DTEND;TZID=UTC:20250805T080000
DTSTAMP:20260422T065901
CREATED:20241231T215455Z
LAST-MODIFIED:20260312T184455Z
UID:2989-1754380800-1754380800@www.warrensburg.org
SUMMARY:EPIC - Coffee
DESCRIPTION:[vc_row][vc_column][vc_single_image image=”2970″ img_size=”full” alignment=”center” css=””][vc_empty_space][/vc_column][/vc_row][vc_row][vc_column][vc_column_text]EPIC (Emerging Professionals Improving Connections) hosts networking events to strengthen communication and leadership skills\, support community involvement\, and develop professional relations through networking and collaboration. For the 2025 fiscal year\, EPIC strives to uphold the theme of “Seeding Connections\, Cultivating Growth” to encourage our professionals to plant new connections at our networking lunches and to foster personal growth for business development purposes at our coffees. \nWho can join EPIC?\nAnyone! Whether you’re a Chamber member or a non-member\, we feel this organization is for everyone! Our only requirement is that you must live or work in Johnson County or surrounding areas\, share an interest in meeting other emerging professionals\, and are willing to contribute to the community and learn from professional leaders positively. \nMembership requires an annual fee of $20/year as a Chamber member or $50/year as a non-member. We ask that all members strive to uphold the EPIC mission and goals through active participation and commitment to the program. \nFor more details on this event\, please visit our Warrensburg Chamber of Commerce Facebook Events page. \nDate: 8/5/2025\nTime: 8:00 am\nCost Per Year:\nChamber Members – $20\nNon-Chamber Members – $50\nUCM Students – FREE\nActive Military – FREE\nMilitary Dependents – FREE\nLocation: Cafe Du Burg[/vc_column_text][vc_empty_space][/vc_column][/vc_row][vc_row][vc_column][vc_button title=”BECOME A MEMBER” full_width=”true” href=”https://www.warrensburg.org/committees/#epic”][vc_empty_space height=”10px”][vc_button title=”FACEBOOK EVENTS PAGE” target=”_blank” full_width=”true” href=”https://www.facebook.com/BurgChamberMO/events”][vc_empty_space][/vc_column][/vc_row]
URL:https://www.warrensburg.org/event/epic-coffee-9/
LOCATION:Cafe Du Burg\, 211 N Holden St\, Warrensburg\, MO\, 64093\, United States
CATEGORIES:Emerging Professionals - Coffee,Networking Events
ATTACH;FMTTYPE=image/jpeg:https://www.warrensburg.org/wp-content/uploads/2024/12/EPIC-FY25-Schedule.jpg
END:VEVENT
END:VCALENDAR