BEGIN:VCALENDAR
VERSION:2.0
PRODID:-//Warrensburg Chamber of Commerce - ECPv6.15.20//NONSGML v1.0//EN
CALSCALE:GREGORIAN
METHOD:PUBLISH
X-WR-CALNAME:Warrensburg Chamber of Commerce
X-ORIGINAL-URL:https://www.warrensburg.org
X-WR-CALDESC:Events for Warrensburg Chamber of Commerce
REFRESH-INTERVAL;VALUE=DURATION:PT1H
X-Robots-Tag:noindex
X-PUBLISHED-TTL:PT1H
BEGIN:VTIMEZONE
TZID:America/Chicago
BEGIN:DAYLIGHT
TZOFFSETFROM:-0600
TZOFFSETTO:-0500
TZNAME:CDT
DTSTART:20250309T080000
END:DAYLIGHT
BEGIN:STANDARD
TZOFFSETFROM:-0500
TZOFFSETTO:-0600
TZNAME:CST
DTSTART:20251102T070000
END:STANDARD
BEGIN:DAYLIGHT
TZOFFSETFROM:-0600
TZOFFSETTO:-0500
TZNAME:CDT
DTSTART:20260308T080000
END:DAYLIGHT
BEGIN:STANDARD
TZOFFSETFROM:-0500
TZOFFSETTO:-0600
TZNAME:CST
DTSTART:20261101T070000
END:STANDARD
BEGIN:DAYLIGHT
TZOFFSETFROM:-0600
TZOFFSETTO:-0500
TZNAME:CDT
DTSTART:20270314T080000
END:DAYLIGHT
BEGIN:STANDARD
TZOFFSETFROM:-0500
TZOFFSETTO:-0600
TZNAME:CST
DTSTART:20271107T070000
END:STANDARD
END:VTIMEZONE
BEGIN:VEVENT
DTSTART;TZID=America/Chicago:20260318T080000
DTEND;TZID=America/Chicago:20260318T093000
DTSTAMP:20260424T033856
CREATED:20260131T222153Z
LAST-MODIFIED:20260312T173832Z
UID:3589-1773820800-1773826200@www.warrensburg.org
SUMMARY:Community Update Breakfast
DESCRIPTION:[vc_row][vc_column][vc_single_image image=”3590″ img_size=”full” alignment=”center” css=””][vc_empty_space][/vc_column][/vc_row][vc_row][vc_column][vc_column_text css=””]The Warrensburg Chamber of Commerce will host its Annual Community Update Breakfast on Wednesday\, March 18\, 2026\, from 8:00 a.m. to 9:30 a.m. at the Warrensburg Senior Center\, located at 445 E Gay St\, Warrensburg\, MO 64093. \nThe Annual Community Update Breakfast provides an opportunity for local professionals\, community partners\, and residents to stay informed on key initiatives\, organizational priorities\, and upcoming projects that support the continued growth and vitality of the Warrensburg area. The program is designed to encourage awareness\, collaboration\, and engagement among those invested in the community’s success. \nThis year’s program will focus on topics related to health and education. Attendees will hear brief updates from Western Missouri Medical Center\, the University of Central Missouri\, and the Warrensburg R-VI School District. Each presentation will be followed by a short question-and-answer session\, allowing participants to gain further insight\, ask clarifying questions\, and learn more about services\, programs\, and developments impacting the community. \nDate: 3/18/2026\nTime: 8:00 am – 9:30 am\nLocation: Warrensburg Senior Center[/vc_column_text][vc_empty_space][/vc_column][/vc_row][vc_row][vc_column][vc_custom_heading text=”Purchase Tickets” use_theme_fonts=”yes” css=””][vc_separator style=”solid” color=”#000000″ padding_top=”10″ padding_bottom=”20″]Registration for this event is now closed. [vc_empty_space][/vc_column][/vc_row]
URL:https://www.warrensburg.org/event/community-update-breakfast/
CATEGORIES:Annual Events,Upcoming Events
ATTACH;FMTTYPE=image/jpeg:https://www.warrensburg.org/wp-content/uploads/2026/01/2026-Community-Breakfast-Update-Facebook-Cover1.jpg
END:VEVENT
END:VCALENDAR